BEGIN:VCALENDAR
VERSION:2.0
PRODID:-//Live Argyll - ECPv6.10.1.1//NONSGML v1.0//EN
CALSCALE:GREGORIAN
METHOD:PUBLISH
X-ORIGINAL-URL:https://liveargyll.co.uk
X-WR-CALDESC:Events for Live Argyll
REFRESH-INTERVAL;VALUE=DURATION:PT1H
X-Robots-Tag:noindex
X-PUBLISHED-TTL:PT1H
BEGIN:VTIMEZONE
TZID:Europe/London
BEGIN:DAYLIGHT
TZOFFSETFROM:+0000
TZOFFSETTO:+0100
TZNAME:BST
DTSTART:20260329T010000
END:DAYLIGHT
BEGIN:STANDARD
TZOFFSETFROM:+0100
TZOFFSETTO:+0000
TZNAME:GMT
DTSTART:20261025T010000
END:STANDARD
END:VTIMEZONE
BEGIN:VEVENT
DTSTART;TZID=Europe/London:20260920T193000
DTEND;TZID=Europe/London:20260920T220000
DTSTAMP:20260420T133948
CREATED:20250523T074938Z
LAST-MODIFIED:20260418T141729Z
UID:73380-1789932600-1789941600@liveargyll.co.uk
SUMMARY:The Sound of Scotland With the MacDonald Bros
DESCRIPTION:Get ready to experience the vibrant and soulful sound of Scotland with the MacDonald Bros in a night you won’t forget!\n\n\nTHE SOUND OF SCOTLAND with THE MACDONALD BROS CELEBRATING SCOTLAND’S MUSICAL ARTISTS \n \nAfter selling out shows in 2025 – The Sound of Scotland with the Macdonald Bros returns in 2026 with a stunning new production which will take you on a musical journey celebrating Scotland’s greatest songs and artists. \n \nJoin our outstanding live musicians The MacDonald Bros as they celebrate their 20th anniversary since bursting into the public eye on the X Factor. \n \nThis show truly highlights the brother’s multi-instrumental talents including accordion\, fiddle\, piano\, guitars and Irish whistles as well as their unique Vocal Harmonies which has seen them referred to as “The Scottish Everly Bros”. \n \nThese talented guys perform some of the biggest hits from The Proclaimers to Deacon Blue and from Runrig to The Bay City Rollers plus a whole lot more! \n \nJoining the brothers on stage will be an amazing supporting cast of dancers\, and stunning video footage accompanies every number – ensuring an unforgettable evening of Scottish music variety. \n \nThe Sound of Scotland celebrates everything wonderful about Scotland and has been described as a Scottish Music Extravaganza – so get your tartan scarves at the ready! \n \nThis production is truly one of the best shows touring Scottish Theatres in 2026! \n \nJoin us for a night to remember & get your tickets today!
URL:https://liveargyll.co.uk/event/the-sound-of-scotland-with-the-macdonald-bros-2/
LOCATION:Victoria Halls Helensburgh G84 8TU\, Sinclair Street\, Helensburgh\, Argyll and Bute\, G84 8TU\, United Kingdom
CATEGORIES:Music
ATTACH;FMTTYPE=image/jpeg:https://liveargyll.co.uk/wp-content/uploads/2025/05/https3A2F2Fcdn.evbuc_.com2Fimages2F10374355032F8428905885832F12Foriginal.20250523-084753autoformat2Ccompressq75sharp10s5f3b3e640787e18964ffa4e7bed088e3.jpg
END:VEVENT
END:VCALENDAR