BEGIN:VCALENDAR
VERSION:2.0
PRODID:-//Live Argyll - ECPv6.10.1.1//NONSGML v1.0//EN
CALSCALE:GREGORIAN
METHOD:PUBLISH
X-ORIGINAL-URL:https://liveargyll.co.uk
X-WR-CALDESC:Events for Live Argyll
REFRESH-INTERVAL;VALUE=DURATION:PT1H
X-Robots-Tag:noindex
X-PUBLISHED-TTL:PT1H
BEGIN:VTIMEZONE
TZID:Europe/London
BEGIN:DAYLIGHT
TZOFFSETFROM:+0000
TZOFFSETTO:+0100
TZNAME:BST
DTSTART:20260329T010000
END:DAYLIGHT
BEGIN:STANDARD
TZOFFSETFROM:+0100
TZOFFSETTO:+0000
TZNAME:GMT
DTSTART:20261025T010000
END:STANDARD
BEGIN:DAYLIGHT
TZOFFSETFROM:+0000
TZOFFSETTO:+0100
TZNAME:BST
DTSTART:20270328T010000
END:DAYLIGHT
BEGIN:STANDARD
TZOFFSETFROM:+0100
TZOFFSETTO:+0000
TZNAME:GMT
DTSTART:20271031T010000
END:STANDARD
END:VTIMEZONE
BEGIN:VEVENT
DTSTART;TZID=Europe/London:20261107T200000
DTEND;TZID=Europe/London:20261107T223000
DTSTAMP:20260420T065703
CREATED:20251127T212943Z
LAST-MODIFIED:20260418T141715Z
UID:75777-1794081600-1794090600@liveargyll.co.uk
SUMMARY:Calum MacPhail Live
DESCRIPTION:Come along and see Calum MacPhail take to the Corran Halls stage for a fantastic night of music!\n\n\nCalum MacPhail Live In Concert \n \nPresented by Rising PR \n \nScottish singer\, songwriter\, and accordionist Calum MacPhail is making waves with his vibrant fusion of traditional Scottish folk and Irish music. \n \nAn exciting new presence on the Celtic live music scene\, Calum first made his mark at just 16 when he founded the award-winning folk band Hò-rò\, touring internationally and captivating audiences with his high-energy performances. Now\, he brings his latest show to the stage alongside his talented band\, fresh from the release of his acclaimed album ‘Highlands to Heartlands’\, featuring the fan-favourite single ‘Bonnie Wee Jeannie.’ \n \nIn the past two years\, Calum has built a loyal fanbase through sold-out performances\, including standout shows at the Eden Court Theatre in Inverness and appearances at the prestigious Royal Highland Show. His growing reputation has also led to support slots for some of Ireland’s biggest stars\, including The Tumbling Paddies\, Nathan Carter\, and Derek Ryan. His success has extended across the Irish Sea\, with numerous highly successful media and promotional tours of Ireland.
URL:https://liveargyll.co.uk/event/calum-macphail-live/
LOCATION:The Corran Halls\, 54 Corran Esplanade\, Oban\, Argyll and Bute\, PA34 5AB\, United Kingdom
CATEGORIES:Music
ATTACH;FMTTYPE=image/jpeg:https://liveargyll.co.uk/wp-content/uploads/2025/11/https3A2F2Fcdn.evbuc_.com2Fimages2F11718925502F11084224510032F12Foriginal.20251127-211910autoformat2Ccompressq75sharp10sae25e77d1e9119206fac0fb19b70cca7-scaled.jpg
END:VEVENT
BEGIN:VEVENT
DTSTART;TZID=Europe/London:20261115T193000
DTEND;TZID=Europe/London:20261115T220000
DTSTAMP:20260420T065703
CREATED:20260413T100700Z
LAST-MODIFIED:20260413T100700Z
UID:77553-1794771000-1794780000@liveargyll.co.uk
SUMMARY:Claudia Buckley
DESCRIPTION:Come along and see Claudia Buckley live at the Corran Halls! Doors open 1900.\n\n\nClaudia Buckley is an award winning performer and vocalist\, from Athenry in Co. Galway and has fondly became known by her worldwide fan base as “The Galway Girl”. \n \nThis past month has seen Claudia win Female Entertainer of the year for the third time running at the hot country music awards. \n \nWith four “Female Entertainer Of The Year” award wins under her belt\, Claudia is one of the leading country music stars in Ireland. She has two number 1 albums in the charts featuring hits such as “Diane”\, “Come On In” and her breakthrough single “Drinking with Dolly” which has credited Claudia her own stamp on the country music scene in Ireland and beyond. \nClaudia has achieved record breaking success as she has massed a huge following of all ages who travel far and wide to see her perform with her five piece band at dance halls\, theatres and at festivals both at home in Ireland and overseas. \nOf course\, some would say it was inevitable that Claudia would pursue a career in music\, following firmly in the footsteps of her father\, Country music legend Jimmy Buckley. He speaks fondly with pride about Claudia’s love for her craft “I knew music would find her\, she got bitten by the music bug at a very young age. I’m so happy that the public have taken to her wonderful personality\, and she has the talent to match\, I could not be more proud if I tried.” \n \nClaudia has dueted with and toured the UK extensively with Nathan Carter and after a sell out solo tour in 2025 including two nights in the prestigious Eden Court in Inverness\, she is currently planning to bring her brand new tour back to Scotland in Autumn 2026. \n \nClaudia has featured on various television shows in Ireland including Ireland longest running and highest viewership ‘The Late Late show’ and notably being one of the special guests on Daniel O’Donnells Opry le Daniel show. \nThis year sees Claudia taking her TV appearances to an even bigger audience as she was asked to duet with and be interviewed by Boyzones Ronan Keating for his new BBC UK series. This show is due to air nationally in Spring this year.
URL:https://liveargyll.co.uk/event/claudia-buckley/
LOCATION:The Corran Halls\, 54 Corran Esplanade\, Oban\, Argyll and Bute\, PA34 5AB\, United Kingdom
CATEGORIES:Music
ATTACH;FMTTYPE=image/jpeg:https://liveargyll.co.uk/wp-content/uploads/2026/04/https3A2F2Fcdn.evbuc_.com2Fimages2F11820214882F11084224510032F12Foriginal.20260413-110351autoformat2Ccompressq75sharp10s5164bf6a438644936d75dc2582c209ca.jpg
END:VEVENT
BEGIN:VEVENT
DTSTART;TZID=Europe/London:20261120T190000
DTEND;TZID=Europe/London:20261120T220000
DTSTAMP:20260420T065703
CREATED:20251125T122919Z
LAST-MODIFIED:20260418T141806Z
UID:75701-1795201200-1795212000@liveargyll.co.uk
SUMMARY:The Nashville Country Experience
DESCRIPTION:American country music –  Doors 7pm\n\n\nPreseted by GLKpromotions Ltd The Nashville Country Experience is best described as a well balanced blend of both traditional and modern American country music.A tribute to all the greats such as Johnny Cash\, Garth Brooks\,Glen Campbell\,George Jones \,Luke Combs\,Tim Mcgraw and many more\, An interactive good humor fun family show that spans the complete spectrum of country genres from blue grass to country blues rock.Make sure you get your tickets for a country music night to remember.
URL:https://liveargyll.co.uk/event/the-nashville-country-experience/
LOCATION:Argyll and Bute
CATEGORIES:Music
ATTACH;FMTTYPE=image/jpeg:https://liveargyll.co.uk/wp-content/uploads/2025/11/https3A2F2Fcdn.evbuc_.com2Fimages2F11717181772F3259909471112F12Foriginal.20251125-122832autoformat2Ccompressq75sharp10s015b265c490c216c3a8392b5e472d559.jpg
END:VEVENT
BEGIN:VEVENT
DTSTART;TZID=Europe/London:20261121T193000
DTEND;TZID=Europe/London:20261121T220000
DTSTAMP:20260420T065703
CREATED:20251125T091235Z
LAST-MODIFIED:20260418T141807Z
UID:75722-1795289400-1795298400@liveargyll.co.uk
SUMMARY:Across The Universe is a celebration of The Beatles’
DESCRIPTION:The Beatles’ “studio years” 1966-1970.\n\n\nAcross The Universe is a celebration of The Beatles’ “studio years” 1966-1970. This \nunique show featuring live band and orchestra is a must-see for all Beatles fans. \nThe music recorded by the Beatles from 1966-1970 represents some of the most \nground-breaking strides in popular music history\, in terms of songwriting ingenuity\, \nrecording techniques and the establishing of different musical genres within pop \nmusic. Many of these innovative recordings were never intended to be recreated \nlive. \nNow in homage to this sensationally creative period in The Beatles’ career\, Across \nthe Universe brings these recordings to life with stunning detail and accuracy. \nNo wigs\, no costumes. Across the Universe’s intention is musical authenticity\, \nassisted by world class orchestrations from live strings and brass. \nDoors Open 7.00pm & 7.30pm Showtime \nUnder 16’s Accompanied by an Adult.
URL:https://liveargyll.co.uk/event/across-the-universe-is-a-celebration-of-the-beatles/
LOCATION:Argyll and Bute
CATEGORIES:Music
ATTACH;FMTTYPE=image/jpeg:https://liveargyll.co.uk/wp-content/uploads/2025/11/https3A2F2Fcdn.evbuc_.com2Fimages2F10039399732F3259909471112F12Foriginal.20250408-160341autoformat2Ccompressq75sharp10s3edfea89ea7202175ce2bfd59548f2b3.jpg
END:VEVENT
BEGIN:VEVENT
DTSTART;TZID=Europe/London:20270403T193000
DTEND;TZID=Europe/London:20270403T223000
DTSTAMP:20260420T065703
CREATED:20260313T153704Z
LAST-MODIFIED:20260418T141721Z
UID:77195-1806780600-1806791400@liveargyll.co.uk
SUMMARY:The Sound of Scotland With the MacDonald Bros
DESCRIPTION:Get ready to experience the vibrant and soulful melodies of Scotland with the MacDonald Bros as they return to the Corran Halls!\n\n\nTHE SOUND OF SCOTLAND with THE MACDONALD BROS CELEBRATING SCOTLAND’S MUSICAL ARTISTS \n \nAfter selling out shows in 2025 & 2026 – The Sound of Scotland with the Macdonald Bros returns in 2027 with a stunning new production which will take you on a musical journey celebrating Scotland’s greatest songs and artists. \n \nJoin our outstanding live musicians The MacDonald Bros in this epic show that not only celebrates Scotland’s music artists it truly highlights the brother’s multi-instrumental talents including accordion\, fiddle\, piano\, guitars and Irish whistles as well as their unique Vocal Harmonies which has seen them referred to as “The Scottish Everly Bros”. \n \nThese talented guys perform some of the biggest hits from The Proclaimers to Deacon Blue and from Runrig to The Bay City Rollers plus a whole lot more! \n \nJoining the brothers on stage will be an amazing supporting cast of dancers\, and stunning video footage accompanies every number – ensuring an unforgettable evening of Scottish music variety. \n \nThe Sound of Scotland celebrates everything wonderful about Scotland and has been described as a Scottish Music Extravaganza – so get your tartan scarves at the ready! \n \nThis production is truly one of the best shows touring Scottish Theatres in 2027!
URL:https://liveargyll.co.uk/event/the-sound-of-scotland-with-the-macdonald-bros/
LOCATION:Argyll and Bute
CATEGORIES:Music
ATTACH;FMTTYPE=image/jpeg:https://liveargyll.co.uk/wp-content/uploads/2026/03/https3A2F2Fcdn.evbuc_.com2Fimages2F10688611832F11084224510032F12Foriginal.20250708-121408autoformat2Ccompressq75sharp10s11ee5c66c5c8d9cfe8218d21a79cafb4-scaled.jpg
END:VEVENT
BEGIN:VEVENT
DTSTART;TZID=Europe/London:20270410T193000
DTEND;TZID=Europe/London:20270410T220000
DTSTAMP:20260420T065703
CREATED:20260401T135236Z
LAST-MODIFIED:20260418T141722Z
UID:77280-1807385400-1807394400@liveargyll.co.uk
SUMMARY:Oh What A Night
DESCRIPTION:Come along and see Oh What A Night return to the Corran Halls for another amazing show! Doors open 1830.\n\n\nThe show all Frankie Valli and the Four Seasons fans have been waiting for is coming to \nThe Corran Halls on the 10th of April 2027. \n \nOh What A Night! takes you back in time on a musical journey through the incredible career of Frankie Valli & The Four Seasons. Valli’s unmistakable voice dominated the airwaves for more than two decades with classics such as Sherry\, Let’s Hang On\, Big Girls Don’t Cry\, Can’t Take My Eyes Off You\, My Eyes Adored You\, December 63 (Oh What A Night)\, Bye Bye Baby\, Who Loves You and many\, many more. Selling over 100 million records worldwide\, Frankie Valli & The Four Seasons secured their place in the Rock & Roll Hall of Fame in 1990. \n \nOh What A Night! combines infectious personalities\, amazing vocals\, slick harmonies and even slicker dance moves to deliver a show full of energy and nostalgia which always leaves audiences wanting more.
URL:https://liveargyll.co.uk/event/oh-what-a-night/
LOCATION:The Corran Halls\, 54 Corran Esplanade\, Oban\, Argyll and Bute\, PA34 5AB\, United Kingdom
CATEGORIES:Music
ATTACH;FMTTYPE=image/jpeg:https://liveargyll.co.uk/wp-content/uploads/2026/04/https3A2F2Fcdn.evbuc_.com2Fimages2F11812007432F11084224510032F12Foriginal.20260401-145357autoformat2Ccompressq75sharp10s1e264b2bfb97e8251337b0bcda1eae4f.jpg
END:VEVENT
END:VCALENDAR