BEGIN:VCALENDAR
VERSION:2.0
PRODID:-//Live Argyll - ECPv6.10.1.1//NONSGML v1.0//EN
CALSCALE:GREGORIAN
METHOD:PUBLISH
X-WR-CALNAME:Live Argyll
X-ORIGINAL-URL:https://liveargyll.co.uk
X-WR-CALDESC:Events for Live Argyll
REFRESH-INTERVAL;VALUE=DURATION:PT1H
X-Robots-Tag:noindex
X-PUBLISHED-TTL:PT1H
BEGIN:VTIMEZONE
TZID:Europe/London
BEGIN:DAYLIGHT
TZOFFSETFROM:+0000
TZOFFSETTO:+0100
TZNAME:BST
DTSTART:20260329T010000
END:DAYLIGHT
BEGIN:STANDARD
TZOFFSETFROM:+0100
TZOFFSETTO:+0000
TZNAME:GMT
DTSTART:20261025T010000
END:STANDARD
END:VTIMEZONE
BEGIN:VEVENT
DTSTART;TZID=Europe/London:20261112T193000
DTEND;TZID=Europe/London:20261112T220000
DTSTAMP:20260419T182805
CREATED:20251205T100042Z
LAST-MODIFIED:20260418T141802Z
UID:75842-1794511800-1794520800@liveargyll.co.uk
SUMMARY:Man In The Mirror - Doors 7.00pm
DESCRIPTION:Join us for a Thriller of an evening\, as we celebrate the legendary music of the KING OF POP.\n\n\nMAN IN THE MIRROR YOUTUBE/SOCIAL HANDLES \nYouTube–Coming soonFacebook.com/ManInTheMirrorTour \nInstagram.com/ManInTheMirrorTour \nWebsite:Man In The Mirror–Show Page–Entertainers \nMan in theMirror–A tribute to Michael Jackson \nThis is the“Man in the Mirror”– The brand new must-see\, electrifying tribute concertto Michael Jackson. Starring CJ\, one of the world’s greatest Michael Jackson Tribute Artists and supported by a talented cast of performers and musicians who capture the essence of Michael Jackson’s unique style and charisma like no other\, in this scintillatingproduction that will keep you on the edge of your seats. Featuring all his greatest hits you know and love\, including “Thriller\,” “Billie Jean\,””Beat It\,” “Smooth Criminal\,” and of course\, “Man in the Mirror.” Complete withdazzling choreography\, stunning visual effects\, light show and authentic costumes. This is the show that pays tribute to Jackson’s musical legacy. So\,whether you’re a lifelong fan or experiencing the magic of Michael Jackson forthe first time\, get ready as we take you back in time\, for a night like no other.Brand new from Entertainers. Tickets on sale now\, touring nationwide.
URL:https://liveargyll.co.uk/event/man-in-the-mirror-doors-7-00pm/
CATEGORIES:Performing & Visual Arts
ATTACH;FMTTYPE=image/jpeg:https://liveargyll.co.uk/wp-content/uploads/2025/12/https3A2F2Fcdn.evbuc_.com2Fimages2F11723760902F3259909471112F12Foriginal.20251205-101223autoformat2Ccompressq75sharp10s609aaceda015b9f2202ea53d8de56fae.jpg
END:VEVENT
BEGIN:VEVENT
DTSTART;TZID=Europe/London:20261113T193000
DTEND;TZID=Europe/London:20261113T220000
DTSTAMP:20260419T182805
CREATED:20251030T122639Z
LAST-MODIFIED:20260418T141803Z
UID:75588-1794598200-1794607200@liveargyll.co.uk
SUMMARY:John Lydon – aka Johnny Rotten
DESCRIPTION:An icon\, a revolutionary and an immortal\, as the frontman and lyricist of the Sex Pistols. Doors 7.00pm\n\n\nHe’s a legend and an icon\, a revolutionary and an immortal. John Lydon – aka Johnny Rotten – changed the face of music and sparked a cultural revolution. The frontman and lyricist of the Sex Pistols and Public Image Ltd (PiL) caused a political earthquake and transformed music for good. To coincide with the publication of his new book\, the brilliant\, funny and insightful I Could Be Wrong\, I Could Be Right\, he is touring the UK. Lydon will talk about how he sees life\, along with his unique and extraordinary career\, and take audience questions during a pyrotechnic\, one-off tour. Lydon will be sharing his thoughts with audiences. He Could Be Wrong. He Could Be Right. \n \nVIP meet’n’greet packages are available. Signed copies of the book will be available.
URL:https://liveargyll.co.uk/event/john-lydon-aka-johnny-rotten/
LOCATION:The Queen’s Hall Dunoon\, 9 Argyll Street\, Dunoon\, Argyll and Bute\, PA237HH\, United Kingdom
CATEGORIES:Performing & Visual Arts
ATTACH;FMTTYPE=image/jpeg:https://liveargyll.co.uk/wp-content/uploads/2025/10/https3A2F2Fcdn.evbuc_.com2Fimages2F11663081732F3259909471112F12Foriginal.20251030-122145autoformat2Ccompressq75sharp10s84536a743911b5064874fda6ea472f47-scaled.jpg
END:VEVENT
BEGIN:VEVENT
DTSTART;TZID=Europe/London:20261114T190000
DTEND;TZID=Europe/London:20261114T213000
DTSTAMP:20260419T182805
CREATED:20260220T081827Z
LAST-MODIFIED:20260418T141805Z
UID:76826-1794682800-1794691800@liveargyll.co.uk
SUMMARY:Alba Ballet Presents - Coppelia
DESCRIPTION:Welcome to the Queen’s Hall for this years superb performance brought to you by Alba Ballet. Doors Open 6.30pm\n\n\nAlba Ballet presents Coppélia\, a sparkling tale of mischief\, romance and magical dolls. Follow Swanhilda as she uncovers the eccentric Dr Coppélius’s mysterious creation in this charming\, family-friendly classic filled with beautiful dancing and delightful comedy. A Classica Ballet perfect for all ages and an enchanting theatre experience for everyone
URL:https://liveargyll.co.uk/event/alba-ballet-presents-coppelia/
CATEGORIES:Performing & Visual Arts
ATTACH;FMTTYPE=image/jpeg:https://liveargyll.co.uk/wp-content/uploads/2026/02/https3A2F2Fcdn.evbuc_.com2Fimages2F11780082852F3259909471112F12Foriginal.20260220-075449autoformat2Ccompressq75sharp10sf6ad5d876f1e24bdc0bcc76aa7fbf997.jpg
END:VEVENT
BEGIN:VEVENT
DTSTART;TZID=Europe/London:20261125T200000
DTEND;TZID=Europe/London:20261125T220000
DTSTAMP:20260419T182805
CREATED:20260219T142911Z
LAST-MODIFIED:20260418T141719Z
UID:76851-1795636800-1795644000@liveargyll.co.uk
SUMMARY:Dylan Moran: Looking For Trouble
DESCRIPTION:Come along to the Corran Halls and see Dylan Moran with his Looking For Trouble. Doors open 7pm\, show starts 8pm.\n\n\nMick Perrin Worldwide presents \nAge Rating: 16+ \nShowtime. What are you going to do?Are you going to go to work? Or stay in bed\, chasing oblivion. Guess what?We’re fresh out of oblivion.The Economy will do fine without you – but how long will you survive without the usual giant horn of frozen caramel latte and the five thousand other pieces of bullshit you have smushed together so you can point at it and croak ‘That’s my ..life?’Now\, now\, all this drama and we’re not even out the door yet.Find out how it could all have been different. Find out how to reclaim your life by becoming a lethal kickboxing\, chess champion. Pioneer new trends in global lovemaking\, join tan elite band trillionaire poet/pastry chef/mountineers. Just go \nLOOKING FOR TROUBLE \nA brand new show from BAFTA and Perrier awarding winning comedian & star of Black Books\, Dylan Moran. \n“Joyfully cynical ”★★★★★- Metro \n“Perfect for the times”★★★★★– The i \n“Superb”★★★★- Guardian \n“Trumping Shakespeare\, he reduces life to four ages: “Child\, failure\, old and dead”. Faced with one-liners as killing as that the world suddenly seems a better place.” –★★★★- Telegraph
URL:https://liveargyll.co.uk/event/dylan-moran-looking-for-trouble/
LOCATION:The Corran Halls\, 54 Corran Esplanade\, Oban\, Argyll and Bute\, PA34 5AB\, United Kingdom
CATEGORIES:Performing & Visual Arts
ATTACH;FMTTYPE=image/jpeg:https://liveargyll.co.uk/wp-content/uploads/2026/02/https3A2F2Fcdn.evbuc_.com2Fimages2F11779317232F11084224510032F12Foriginal.20260219-142205autoformat2Ccompressq75sharp10s7fe6d1640d403bb7561c2c279afcfcb9.jpg
END:VEVENT
END:VCALENDAR