BEGIN:VCALENDAR
VERSION:2.0
PRODID:-//Live Argyll - ECPv6.10.1.1//NONSGML v1.0//EN
CALSCALE:GREGORIAN
METHOD:PUBLISH
X-WR-CALNAME:Live Argyll
X-ORIGINAL-URL:https://liveargyll.co.uk
X-WR-CALDESC:Events for Live Argyll
REFRESH-INTERVAL;VALUE=DURATION:PT1H
X-Robots-Tag:noindex
X-PUBLISHED-TTL:PT1H
BEGIN:VTIMEZONE
TZID:Europe/London
BEGIN:DAYLIGHT
TZOFFSETFROM:+0000
TZOFFSETTO:+0100
TZNAME:BST
DTSTART:20260329T010000
END:DAYLIGHT
BEGIN:STANDARD
TZOFFSETFROM:+0100
TZOFFSETTO:+0000
TZNAME:GMT
DTSTART:20261025T010000
END:STANDARD
END:VTIMEZONE
BEGIN:VEVENT
DTSTART;TZID=Europe/London:20260905T193000
DTEND;TZID=Europe/London:20260905T213000
DTSTAMP:20260419T154516
CREATED:20251127T215322Z
LAST-MODIFIED:20260418T141709Z
UID:75731-1788636600-1788643800@liveargyll.co.uk
SUMMARY:The Provy Wummin
DESCRIPTION:The Provy Wummin comes to the Corran Halls\, grab your tickets now for an incredible night!\n\n\nThe Provy Wummin \nWritten & Directed by Paul Moore \nAn Arts Enigma Production \nThe smash hit musical comedy is chapping doors doon Oban & Dunoon! \n“A comedy masterpiece” \nIt’s 1979. Does the wean want a chopper for Christmas or does she fancy a new outfit from What Every Woman Wants? Or is it What Every Woman Needed? \nMargaret Morrison is that friendly face\, who in times of need\, can help. The Provident Woman knocked on many a door on a Friday\, offering a friendly loan to families struggling with the cost of living. and life’s hardest knocks. But what cost life? What cost love? \nScottish comedy at its best Evening Times \nA gritty musical comedy\, with a fab soundtrack to the 70s…The Provy Wummin is The First Wives Club meets Still Game with a sobering hint of Margaret Thatcher. The Beacon Arts Centre Greenock \n“Utterly hilarious. Best comedy I’ve seen in years” Rutherglen Town Hall \n“A superb female cast in the funniest\, laugh out loud comedy I’ve ever seen\, with some poignant moments to keep it real…the singing is outstanding” Websters Theatre \n“Great cast. Great show. Just great” West End News \nContains strong language and adult humour 16+
URL:https://liveargyll.co.uk/event/the-provy-wummin/
LOCATION:The Corran Halls\, 54 Corran Esplanade\, Oban\, Argyll and Bute\, PA34 5AB\, United Kingdom
CATEGORIES:Performing & Visual Arts
ATTACH;FMTTYPE=image/jpeg:https://liveargyll.co.uk/wp-content/uploads/2025/11/https3A2F2Fcdn.evbuc_.com2Fimages2F11718933752F11084224510032F12Foriginal.20251127-214831autoformat2Ccompressq75sharp10s7430a4a68d3e5a41aec6aff9bd3d8d91.jpg
END:VEVENT
BEGIN:VEVENT
DTSTART;TZID=Europe/London:20260905T193000
DTEND;TZID=Europe/London:20260905T220000
DTSTAMP:20260419T154516
CREATED:20251212T073118Z
LAST-MODIFIED:20260418T141754Z
UID:76039-1788636600-1788645600@liveargyll.co.uk
SUMMARY:The Diana Ross Story - Doors 7.00pm
DESCRIPTION:In The Name of Love: The Diana Ross Story\n\n\nBACK BY POPULAR DEMAND!!!  \nIn The Name of Love: The Diana Ross Story returns to Scotland after a huge SELL OUT tour in 2025!!! \nPrepare to be taken on a spellbinding journey visiting one of the greatest musical stories ever told. This show is a chronological history of hits from a career culminating in over 100 million record sales! \n \nFounded in 1959\, in Detroit Michigan\, this young\, girl group went on to be known as The Supremes\, the most commercially successful of Motown’s acts and the most successful American vocal band\, with 12 number one singles on the Billboard Hot 100. \n \nOur first Act focuses on the rise of The Supremes under the expert management of Berry Gordy. This determined young\, girl group\, formerly known as The Primettes frequented the Hitsville USA recording studio with the aim of securing the contract with Gordy who suggested a range of new names for the band\, with Florence Ballard choosing to re-brand them as The Supremes. \n \nOur second act sets to thrill as we take you through the astounding catalogue of hits throughout the years Diana Ross’ solo career – a story which tells itself!  \nSo\, get ready to dance and sing along to all of the hits that define one of the most powerful legacies in music!!
URL:https://liveargyll.co.uk/event/the-diana-ross-story-doors-7-00pm/
CATEGORIES:Performing & Visual Arts
ATTACH;FMTTYPE=image/jpeg:https://liveargyll.co.uk/wp-content/uploads/2025/12/https3A2F2Fcdn.evbuc_.com2Fimages2F11728311792F3259909471112F12Foriginal.20251212-125508autoformat2Ccompressq75sharp10sf6ec89faac15d58290c38b66f96a27d8.jpg
END:VEVENT
END:VCALENDAR