BEGIN:VCALENDAR
VERSION:2.0
PRODID:-//Live Argyll - ECPv6.10.1.1//NONSGML v1.0//EN
CALSCALE:GREGORIAN
METHOD:PUBLISH
X-WR-CALNAME:Live Argyll
X-ORIGINAL-URL:https://liveargyll.co.uk
X-WR-CALDESC:Events for Live Argyll
REFRESH-INTERVAL;VALUE=DURATION:PT1H
X-Robots-Tag:noindex
X-PUBLISHED-TTL:PT1H
BEGIN:VTIMEZONE
TZID:Europe/London
BEGIN:DAYLIGHT
TZOFFSETFROM:+0000
TZOFFSETTO:+0100
TZNAME:BST
DTSTART:20260329T010000
END:DAYLIGHT
BEGIN:STANDARD
TZOFFSETFROM:+0100
TZOFFSETTO:+0000
TZNAME:GMT
DTSTART:20261025T010000
END:STANDARD
END:VTIMEZONE
BEGIN:VEVENT
DTSTART;TZID=Europe/London:20261016T193000
DTEND;TZID=Europe/London:20261016T220000
DTSTAMP:20260419T183038
CREATED:20260129T111429Z
LAST-MODIFIED:20260418T141731Z
UID:76634-1792179000-1792188000@liveargyll.co.uk
SUMMARY:An Evening with Jane McCarry and Mark Cox!
DESCRIPTION:Join us for a hilarious night with Jane McCarry and Mark Cox\, guaranteed to have you laughing till your sides hurt!\n\n\nGet ready for a night of laughter\, stories and surprises as two of Scotlands favourite comic talents take to the stage in An Evening with Jane McCarry and Mark Cox! \nJoin Jane\, best known and loved as the unforgettable Isa from Still Game\, and her hilarious partner in crime Mark Cox for an intimate night packed with side spltting tales\, behind the scenes banter and the kind of quick fire wit only theycan deliver
URL:https://liveargyll.co.uk/event/an-evening-with-jane-mccarry-and-mark-cox/
LOCATION:Victoria Halls Helensburgh G84 8TU\, Sinclair Street\, Helensburgh\, Argyll and Bute\, G84 8TU\, United Kingdom
CATEGORIES:Performing & Visual Arts
ATTACH;FMTTYPE=image/jpeg:https://liveargyll.co.uk/wp-content/uploads/2026/01/https3A2F2Fcdn.evbuc_.com2Fimages2F11761475452F8428905885832F12Foriginal.20260129-105034autoformat2Ccompressq75sharp10sd1bb85741b3cba6938ef0fc7a5753cff.jpg
END:VEVENT
END:VCALENDAR