BEGIN:VCALENDAR
VERSION:2.0
PRODID:-//Live Argyll - ECPv6.10.1.1//NONSGML v1.0//EN
CALSCALE:GREGORIAN
METHOD:PUBLISH
X-WR-CALNAME:Live Argyll
X-ORIGINAL-URL:https://liveargyll.co.uk
X-WR-CALDESC:Events for Live Argyll
REFRESH-INTERVAL;VALUE=DURATION:PT1H
X-Robots-Tag:noindex
X-PUBLISHED-TTL:PT1H
BEGIN:VTIMEZONE
TZID:Europe/London
BEGIN:DAYLIGHT
TZOFFSETFROM:+0000
TZOFFSETTO:+0100
TZNAME:BST
DTSTART:20260329T010000
END:DAYLIGHT
BEGIN:STANDARD
TZOFFSETFROM:+0100
TZOFFSETTO:+0000
TZNAME:GMT
DTSTART:20261025T010000
END:STANDARD
END:VTIMEZONE
BEGIN:VEVENT
DTSTART;TZID=Europe/London:20261017T193000
DTEND;TZID=Europe/London:20261017T220000
DTSTAMP:20260419T182931
CREATED:20251205T104206Z
LAST-MODIFIED:20260418T141759Z
UID:75840-1792265400-1792274400@liveargyll.co.uk
SUMMARY:Fastlove - Doors 7.00pm
DESCRIPTION:FASTLOVE The George Michael Tribute Direct from London’s West End.\n\n\nFASTLOVE The George Michael Tribute Direct from London’s West End\, this is the world’s favourite George Michael celebration! Few shows have reached the dizzy heights of Fastlove\, now touring in 18 countries\, selling over500\,000 tickets worldwide. \nJoin us for one very special night as we celebrate the late great George Michael. Our talented cast will recreate for you\, a night like no other! Make new memories whilst reliving old classics-this one is for the fans as we celebrate one of the greatest musicians the world has ever seen\, and we say thank you! \nThis show has it all\, the power\, emotion and star quality in this stunning production with full video and light show\, as we respectfully recreate the soundtrack to your life. Playing all the hits\, from Wham! right through his glittering career\, including\, Wake Me Up\, TooFunky\, Father Figure\, Freedom\, Faith\, Knew You Were Waiting\, Careless Whisper and many more. \nFastlove: for the fans.” The closest you can getto the real thing “The Reviews Hub” A feast of tunes to commemorate George Michael with a cast that delivers impeccable standards. \n”First Night Magazine ” If you want a fun night out–I would definitely hotfoot it to Fastlove. \n“North West End“ Executed with precision and passion\, capturing the essence of George Michael’s music. \n”Five Things Today“. . . the real deal. Own it\, you’ve earned the right to be called the best George Micheal tribute inthe world. \n”Fairy Powered Productions” This is a tribute show and is in no way affiliated with any original artists/estates/managementcompanies or similar shows. Promoter reserves the right to alter the programme. \nFacebook: facebook.com/FastloveTour \nTwitter:twitter.com/FastloveTour \nInstagram:Instagram.com/FastloveTour \nWebsite:entertainers.uk/fastlove-tribute-to-george-michael/
URL:https://liveargyll.co.uk/event/fastlove-doors-7-00pm/
CATEGORIES:Performing & Visual Arts
ATTACH;FMTTYPE=image/jpeg:https://liveargyll.co.uk/wp-content/uploads/2025/12/https3A2F2Fcdn.evbuc_.com2Fimages2F11724713812F3259909471112F12Foriginal.20251207-134823autoformat2Ccompressq75sharp10s54c2347cff187cc582350f0386525698.jpg
END:VEVENT
BEGIN:VEVENT
DTSTART;TZID=Europe/London:20261017T193000
DTEND;TZID=Europe/London:20261017T220000
DTSTAMP:20260419T182931
CREATED:20251211T110935Z
LAST-MODIFIED:20260418T141713Z
UID:76065-1792265400-1792274400@liveargyll.co.uk
SUMMARY:Fred MacAulay - Good Evening!
DESCRIPTION:Come along to the Corran Halls to see Fred MacAulay live at the Corran Halls for his 2026 tour “Good Evening!”\n\n\nFRED MACAULAY – “GOOD EVENING!”  \nFor reasons outwith his control\, Fred had to cancel his 2025 Edinburgh Fringe shows and his Autumn Tour – “Fred MacAulay: No podcast – LIVE”. Now\, thankfully\, due to reasons completely within his control\, he is now preparing to hit the road in 2026 with the 2025 show repackaged and updated and simply called “GOOD EVENING!”.  \nSo what happened? Simply put: Fred suffered a freak accident and then an unrelated prostate cancer diagnosis. Is there humour in either of these? In the words of a famous Scotland footballer “Maybes Aye\, Maybes Naw”.  \nNow in the fourth decade of his comedy career\, Fred MacAulay still loves being on stage doing what he does best …… quite simply it’s STAND-UP and his appetite for performing is as strong as it was all those years ago when he took a massive side-ways step from a career as an Accountant and Company Secretary into the world of entertainment.  \nA career which has taken him all over the world (apart from South America) (and some other continents) where he has worked in television and radio. But it’s always been and always will be as a stand-up that Fred wants to be remembered. It’s because of stand-up that he’s been asked to do all the ‘celebrity’ things that he’s done.  \nHe might talk about some of them\, but he’s more likely to talk about what is current – having been a guest on the famous Radio 4 News Quiz show for almost 18 years he has some previous in this respect. And as a family man he’ll no doubt be talking about the latest stage of that aspect of life ….. grandchildren. “I can remember the joy of having our kids just after I’d embarked on my career in comedy ….. what a great source of material they were! I mean\, that wasn’t the main reason for having kids …… but I hope the same applies to the grandkids!”  \nFred hates the word ‘celebrity’ yet he’s done Celebrity Mastermind (twice) and Celebrity Masterchef (once) and who can forget his Celebrity Fame Academy for Comic Relief (Answer: hopefully everyone). Asked twice to do ‘I’m A Celebrity Get Me Out Of Here’ Fred said No! “I’m waiting for the Scottish version ….. “So You Think You’re A Celebrity\, Get The **** Out Of Here!”  \nAsked for a snappy quote for publicity\, Fred sent this: “I really hope that a lot of people come out to see this tour. I think it’s the best show I’ve done since the last one.”  \nHere’s what others have said:  \n‘ONE OF THE BEST STAND-UP COMEDIANS BRITAIN HAS EVER PRODUCED’ – Richard Osman\, Pointless.  \n“FRED MACAULAY IS AN ELITE COMEDIAN” – Kevin Bridges  \n‘RIB-ACHINGLY FUNNY\, ONE OF THE FUNNIEST MEN ALIVE’ – Sunday Times ‘A MASTERCLASS’ – The Evening Expres
URL:https://liveargyll.co.uk/event/fred-macaulay-good-evening/
LOCATION:The Corran Halls\, 54 Corran Esplanade\, Oban\, Argyll and Bute\, PA34 5AB\, United Kingdom
CATEGORIES:Performing & Visual Arts
ATTACH;FMTTYPE=image/jpeg:https://liveargyll.co.uk/wp-content/uploads/2025/12/https3A2F2Fcdn.evbuc_.com2Fimages2F11727542352F11084224510032F12Foriginal.20251211-102919autoformat2Ccompressq75sharp10se2747008bef93b37b8db697c0754c02d-scaled.jpg
END:VEVENT
END:VCALENDAR