BEGIN:VCALENDAR
VERSION:2.0
PRODID:-//Live Argyll - ECPv6.10.1.1//NONSGML v1.0//EN
CALSCALE:GREGORIAN
METHOD:PUBLISH
X-WR-CALNAME:Live Argyll
X-ORIGINAL-URL:https://liveargyll.co.uk
X-WR-CALDESC:Events for Live Argyll
REFRESH-INTERVAL;VALUE=DURATION:PT1H
X-Robots-Tag:noindex
X-PUBLISHED-TTL:PT1H
BEGIN:VTIMEZONE
TZID:Europe/London
BEGIN:DAYLIGHT
TZOFFSETFROM:+0000
TZOFFSETTO:+0100
TZNAME:BST
DTSTART:20260329T010000
END:DAYLIGHT
BEGIN:STANDARD
TZOFFSETFROM:+0100
TZOFFSETTO:+0000
TZNAME:GMT
DTSTART:20261025T010000
END:STANDARD
END:VTIMEZONE
BEGIN:VEVENT
DTSTART;TZID=Europe/London:20260821T193000
DTEND;TZID=Europe/London:20260821T220000
DTSTAMP:20260420T120447
CREATED:20260311T103139Z
LAST-MODIFIED:20260418T141752Z
UID:77072-1787340600-1787349600@liveargyll.co.uk
SUMMARY:The Spirit of Bad Company & Free
DESCRIPTION:Come along to the Queens Hall and see The Spirit of Bad Company & Free live! Doors open 7pm.\n\n\nFree Again\, a six-piece ensemble of musicians\, will perform their spectacular new show that gives you a concert experience of 100 minutes of pure Bad Company and Free nostalgia. \n \nThis is not a heavy rock night by any stretch\, the music is more than that…much more. It’s a delicate blend of vocals\, guitars and piano punctuated by a dynamic rhythm section to produce timeless\, melodic classics. \n \nThis concert promises to be a fantastic night to remember for all Free and Bad Company fans\, young and old. \n \nThe line-up\, made up predominantly from the touring band Hotel California Scotland\, sympathetically and faithfully recreate the authentic sound and feel of the ultimate Paul Rodgers back catalogue. \n \nExpect a set that includes classic tracks ranging from Feel Like Makin’ Love to Wishing Well; All Right Now to Can’t Get Enough. You will also hear an acoustic section with beautiful piano melodies and vocal harmony. \n \nIf you liked what we did with the Eagles music\, there’s every chance you’ll love this too!
URL:https://liveargyll.co.uk/event/the-spirit-of-bad-company-free/
LOCATION:The Queen’s Hall\, 9 Argyll Street\, Dunoon\, Argyll and Bute\, PA23 7HH\, United Kingdom
CATEGORIES:Music
ATTACH;FMTTYPE=image/jpeg:https://liveargyll.co.uk/wp-content/uploads/2026/03/https3A2F2Fcdn.evbuc_.com2Fimages2F11795697062F11084224510032F12Foriginal.20260311-095932autoformat2Ccompressq75sharp10s2e323f7f67996f736cde739ead31184c.jpg
END:VEVENT
BEGIN:VEVENT
DTSTART;TZID=Europe/London:20260828T193000
DTEND;TZID=Europe/London:20260828T220000
DTSTAMP:20260420T120447
CREATED:20260311T094626Z
LAST-MODIFIED:20260418T141708Z
UID:77086-1787945400-1787954400@liveargyll.co.uk
SUMMARY:Hotel California
DESCRIPTION:Come along and see Hotel California return to the Corran Halls. Doors open 7pm.\n\n\nHotel California\, a seven piece ensemble of musicians will perform their spectacular new critically acclaimed show that gives you a concert experience of 100 minutes of pure Eagles nostalgia. \nYou’ll return to a dark desert highway\, cool wind in your hair\, or stand on that street corner in Winslow\, Arizona when you join Hotel California as they faithfully re-create The Eagles and their Californian Sunshine Rock sound. \nExpect a set that includes tracks from the outstanding Long Road Out Of Eden album. The Eagles’ music is timeless\, appealing to audiences of every age\, bringing back memories and touching the hearts and souls of each new generation. \nThis concert promises to be a fantastic night to remember for all Eagles fans\, young and old\, new or long-standing.
URL:https://liveargyll.co.uk/event/hotel-california-2/
LOCATION:The Corran Halls\, 54 Corran Esplanade\, Oban\, Argyll and Bute\, PA34 5AB\, United Kingdom
CATEGORIES:Music
ATTACH;FMTTYPE=image/jpeg:https://liveargyll.co.uk/wp-content/uploads/2026/03/https3A2F2Fcdn.evbuc_.com2Fimages2F11795687202F11084224510032F12Foriginal.20260311-094137autoformat2Ccompressq75sharp10s942d41fdbd8f6e174d94f6553622ea18-scaled.jpg
END:VEVENT
END:VCALENDAR