BEGIN:VCALENDAR
VERSION:2.0
PRODID:-//Live Argyll - ECPv6.10.1.1//NONSGML v1.0//EN
CALSCALE:GREGORIAN
METHOD:PUBLISH
X-WR-CALNAME:Live Argyll
X-ORIGINAL-URL:https://liveargyll.co.uk
X-WR-CALDESC:Events for Live Argyll
REFRESH-INTERVAL;VALUE=DURATION:PT1H
X-Robots-Tag:noindex
X-PUBLISHED-TTL:PT1H
BEGIN:VTIMEZONE
TZID:Europe/London
BEGIN:DAYLIGHT
TZOFFSETFROM:+0000
TZOFFSETTO:+0100
TZNAME:BST
DTSTART:20260329T010000
END:DAYLIGHT
BEGIN:STANDARD
TZOFFSETFROM:+0100
TZOFFSETTO:+0000
TZNAME:GMT
DTSTART:20261025T010000
END:STANDARD
END:VTIMEZONE
BEGIN:VEVENT
DTSTART;TZID=Europe/London:20260707T140000
DTEND;TZID=Europe/London:20260707T160000
DTSTAMP:20260419T145719
CREATED:20260119T083551Z
LAST-MODIFIED:20260418T141748Z
UID:76594-1783432800-1783440000@liveargyll.co.uk
SUMMARY:The Sword in the Stone
DESCRIPTION:The Sword in the Stone – Family Fun for all ages.\n\n\nYoung Wart dreams of becoming a squire\, while his childhood friend Morgan sets her sights on fame and fortune. Along the way\, they meet a host of colourful characters who guide them through adventures and teach them lasting lessons about friendship\, courage\, and finding their way in the world. \n \n★★★★ “… lashings of audience participation.” \nEastern Daily Press \n \n★★★★ “… a quintessential experience.” \nBroadway Baby \nDoors Open 1.30pm for a 2pm show. \n \nAlso available a limited number of workshop tickets prior to show. 12.30pm start until 1.15pm. Workshop suitable for ages 5-10years.
URL:https://liveargyll.co.uk/event/the-sword-in-the-stone/
CATEGORIES:Performing & Visual Arts
ATTACH;FMTTYPE=image/jpeg:https://liveargyll.co.uk/wp-content/uploads/2026/01/https3A2F2Fcdn.evbuc_.com2Fimages2F11752217522F3259909471112F12Foriginal.20260119-083323autoformat2Ccompressq75sharp10sfa5a5788d0688abc333e56bd8251991e.jpg
END:VEVENT
BEGIN:VEVENT
DTSTART;TZID=Europe/London:20260711T170000
DTEND;TZID=Europe/London:20260711T190000
DTSTAMP:20260419T145719
CREATED:20251211T150242Z
LAST-MODIFIED:20260418T141750Z
UID:76038-1783789200-1783796400@liveargyll.co.uk
SUMMARY:KPOP FOREVER!
DESCRIPTION:K-Pop Forever is coming to the Queen’s Hall\, Dunoon.\n\n\nK-Pop Forever! is here\, LIVE on stage! \n \nImmerse yourself in the worldwide phenomenon that is K-Pop with this all-action tribute concert. \n \nFeaturing all-live performances of smash-hits including: Blackpink\, BTS\, Twice\, Soda Pop\, Golden and many more\, this is the ultimate non-stop party! \n \nAmidst a back-drop of world class lighting and effects\, K-Pop Forever! takes audiences on a journey that they will never forget. \n \nWith breathtaking choreography\, plus songs inspired by the record breaking film K-Pop Demon Hunters\, this production is one not to be missed. \n \nK-Pop is taking over the world and THIS is your chance to experience it\, live and in person.
URL:https://liveargyll.co.uk/event/copy-of-kpop-forever/
CATEGORIES:Music
ATTACH;FMTTYPE=image/jpeg:https://liveargyll.co.uk/wp-content/uploads/2025/12/https3A2F2Fcdn.evbuc_.com2Fimages2F11363399832F11084224510032F12Foriginal.20250926-131942autoformat2Ccompressq75sharp10s7efeb386bc29a89f48a9b50049f9f178.jpg
END:VEVENT
END:VCALENDAR