BEGIN:VCALENDAR
VERSION:2.0
PRODID:-//Live Argyll - ECPv6.10.1.1//NONSGML v1.0//EN
CALSCALE:GREGORIAN
METHOD:PUBLISH
X-ORIGINAL-URL:https://liveargyll.co.uk
X-WR-CALDESC:Events for Live Argyll
REFRESH-INTERVAL;VALUE=DURATION:PT1H
X-Robots-Tag:noindex
X-PUBLISHED-TTL:PT1H
BEGIN:VTIMEZONE
TZID:Europe/London
BEGIN:DAYLIGHT
TZOFFSETFROM:+0000
TZOFFSETTO:+0100
TZNAME:BST
DTSTART:20260329T010000
END:DAYLIGHT
BEGIN:STANDARD
TZOFFSETFROM:+0100
TZOFFSETTO:+0000
TZNAME:GMT
DTSTART:20261025T010000
END:STANDARD
END:VTIMEZONE
BEGIN:VEVENT
DTSTART;TZID=Europe/London:20261003T193000
DTEND;TZID=Europe/London:20261003T220000
DTSTAMP:20260419T205054
CREATED:20260311T102500Z
LAST-MODIFIED:20260418T141757Z
UID:77075-1791055800-1791064800@liveargyll.co.uk
SUMMARY:Hotel California
DESCRIPTION:Come along and see Hotel California return to the Queens Hall. Doors open 7pm.\n\n\nHotel California\, a seven piece ensemble of musicians will perform their spectacular new critically acclaimed show that gives you a concert experience of 100 minutes of pure Eagles nostalgia. \nYou’ll return to a dark desert highway\, cool wind in your hair\, or stand on that street corner in Winslow\, Arizona when you join Hotel California as they faithfully re-create The Eagles and their Californian Sunshine Rock sound. \nExpect a set that includes tracks from the outstanding Long Road Out Of Eden album. The Eagles’ music is timeless\, appealing to audiences of every age\, bringing back memories and touching the hearts and souls of each new generation. \nThis concert promises to be a fantastic night to remember for all Eagles fans\, young and old\, new or long-standing.
URL:https://liveargyll.co.uk/event/hotel-california/
LOCATION:The Queen’s Hall\, 9 Argyll Street\, Dunoon\, Argyll and Bute\, PA23 7HH\, United Kingdom
CATEGORIES:Music
ATTACH;FMTTYPE=image/jpeg:https://liveargyll.co.uk/wp-content/uploads/2026/03/https3A2F2Fcdn.evbuc_.com2Fimages2F11795687202F11084224510032F12Foriginal.20260311-094137autoformat2Ccompressq75sharp10s942d41fdbd8f6e174d94f6553622ea18-scaled.jpg
END:VEVENT
BEGIN:VEVENT
DTSTART;TZID=Europe/London:20261015T193000
DTEND;TZID=Europe/London:20261015T213000
DTSTAMP:20260419T205054
CREATED:20251223T082926Z
LAST-MODIFIED:20260418T141758Z
UID:76161-1792092600-1792099800@liveargyll.co.uk
SUMMARY:Karen Dunbar - Aw Roon The Hooses!
DESCRIPTION:Bafta award winner Karen Dunbar – Doors 7.00pm\n\n\nBafta award winner Karen Dunbar is one of Scotland’s best-known comedy actors and DJs. Starting off in the sketch show Chewin’ the Fat\, she then went on to star in her own show\, The Karen Dunbar Show\, which received 4 nominations for the Golden Rose European TV Awards. \n \nKaren has trod the boards in everything from Glasgow Panto to West End Classics\, performed Burns\, Shakespeare\, done stand up and DJ-ed in New York and Ibiza\, and in 2014 she opened the Commonwealth Games in front of one billion viewers. From Oran Mor to the National Theatre\, Karen has captivated audiences with mix of comedy\, music and acting talents and last year she toured Scotland playing 80 dates around the whole country and filmed this for BBC. \n \nAge limit 14+ under 18’s must be accompaniedby an adult. \n \nTicket price: Standard: £27 – VIP Meet & Greet: £40  (limited availability) plus BF \n \nVIP meet & greet tickets incudes the chance to meet Karen back stage in person & have your photo taken with her. Meet & greet will take place during the first interval.
URL:https://liveargyll.co.uk/event/karen-dunbar-aw-roon-the-hooses/
CATEGORIES:Performing & Visual Arts
ATTACH;FMTTYPE=image/jpeg:https://liveargyll.co.uk/wp-content/uploads/2025/12/https3A2F2Fcdn.evbuc_.com2Fimages2F11734416542F3259909471112F12Foriginal.20251223-080601autoformat2Ccompressq75sharp10s5bd044ccb65d5b2a3127c693679f3641.jpg
END:VEVENT
BEGIN:VEVENT
DTSTART;TZID=Europe/London:20261017T193000
DTEND;TZID=Europe/London:20261017T220000
DTSTAMP:20260419T205054
CREATED:20251205T104206Z
LAST-MODIFIED:20260418T141759Z
UID:75840-1792265400-1792274400@liveargyll.co.uk
SUMMARY:Fastlove - Doors 7.00pm
DESCRIPTION:FASTLOVE The George Michael Tribute Direct from London’s West End.\n\n\nFASTLOVE The George Michael Tribute Direct from London’s West End\, this is the world’s favourite George Michael celebration! Few shows have reached the dizzy heights of Fastlove\, now touring in 18 countries\, selling over500\,000 tickets worldwide. \nJoin us for one very special night as we celebrate the late great George Michael. Our talented cast will recreate for you\, a night like no other! Make new memories whilst reliving old classics-this one is for the fans as we celebrate one of the greatest musicians the world has ever seen\, and we say thank you! \nThis show has it all\, the power\, emotion and star quality in this stunning production with full video and light show\, as we respectfully recreate the soundtrack to your life. Playing all the hits\, from Wham! right through his glittering career\, including\, Wake Me Up\, TooFunky\, Father Figure\, Freedom\, Faith\, Knew You Were Waiting\, Careless Whisper and many more. \nFastlove: for the fans.” The closest you can getto the real thing “The Reviews Hub” A feast of tunes to commemorate George Michael with a cast that delivers impeccable standards. \n”First Night Magazine ” If you want a fun night out–I would definitely hotfoot it to Fastlove. \n“North West End“ Executed with precision and passion\, capturing the essence of George Michael’s music. \n”Five Things Today“. . . the real deal. Own it\, you’ve earned the right to be called the best George Micheal tribute inthe world. \n”Fairy Powered Productions” This is a tribute show and is in no way affiliated with any original artists/estates/managementcompanies or similar shows. Promoter reserves the right to alter the programme. \nFacebook: facebook.com/FastloveTour \nTwitter:twitter.com/FastloveTour \nInstagram:Instagram.com/FastloveTour \nWebsite:entertainers.uk/fastlove-tribute-to-george-michael/
URL:https://liveargyll.co.uk/event/fastlove-doors-7-00pm/
CATEGORIES:Performing & Visual Arts
ATTACH;FMTTYPE=image/jpeg:https://liveargyll.co.uk/wp-content/uploads/2025/12/https3A2F2Fcdn.evbuc_.com2Fimages2F11724713812F3259909471112F12Foriginal.20251207-134823autoformat2Ccompressq75sharp10s54c2347cff187cc582350f0386525698.jpg
END:VEVENT
BEGIN:VEVENT
DTSTART;TZID=Europe/London:20261024T200000
DTEND;TZID=Europe/London:20261024T235900
DTSTAMP:20260419T205054
CREATED:20250521T080729Z
LAST-MODIFIED:20260418T141800Z
UID:73362-1792872000-1792886340@liveargyll.co.uk
SUMMARY:Ginger Avenger
DESCRIPTION:Ginger Avenger Metal Madness!\n\n\nThe Ginger avenger Metal Madness! \nHonoured to be bringing the first Metal music event to the Queens Hall this year- brace yourselves for a high energy & immersive experience showcasing three extraordinary bands all while honouring our fallen Metal loving warrior Colin Downie & raising money for CHATS! Go against the grain until the end 🤘 \nOver 18’s  Only – ID Required at entry \nStanding Event \nDoors 7.30pm – Showtime 8.00pm \n \nhttps://www.thegingeravenger.co.uk/
URL:https://liveargyll.co.uk/event/ginger-avenger/
LOCATION:The Queen’s Hall Dunoon\, 9 Argyll Street\, Dunoon\, Argyll and Bute\, PA237HH\, United Kingdom
CATEGORIES:Music
ATTACH;FMTTYPE=image/jpeg:https://liveargyll.co.uk/wp-content/uploads/2025/05/https3A2F2Fcdn.evbuc_.com2Fimages2F10356908532F3259909471112F12Foriginal.20250521-090535autoformat2Ccompressq75sharp10s379ec389f13bf9fde0df1961cd29c531-scaled.jpg
END:VEVENT
END:VCALENDAR