BEGIN:VCALENDAR
VERSION:2.0
PRODID:-//Live Argyll - ECPv6.10.1.1//NONSGML v1.0//EN
CALSCALE:GREGORIAN
METHOD:PUBLISH
X-WR-CALNAME:Live Argyll
X-ORIGINAL-URL:https://liveargyll.co.uk
X-WR-CALDESC:Events for Live Argyll
REFRESH-INTERVAL;VALUE=DURATION:PT1H
X-Robots-Tag:noindex
X-PUBLISHED-TTL:PT1H
BEGIN:VTIMEZONE
TZID:Europe/London
BEGIN:DAYLIGHT
TZOFFSETFROM:+0000
TZOFFSETTO:+0100
TZNAME:BST
DTSTART:20260329T010000
END:DAYLIGHT
BEGIN:STANDARD
TZOFFSETFROM:+0100
TZOFFSETTO:+0000
TZNAME:GMT
DTSTART:20261025T010000
END:STANDARD
END:VTIMEZONE
BEGIN:VEVENT
DTSTART;TZID=Europe/London:20260501T193000
DTEND;TZID=Europe/London:20260501T213000
DTSTAMP:20260419T135055
CREATED:20251015T071934Z
LAST-MODIFIED:20260418T141740Z
UID:75572-1777663800-1777671000@liveargyll.co.uk
SUMMARY:JACK DOCHERTY IN THE CHIEF - NO APOLOGIES
DESCRIPTION:Scot Squad’s Jack Docherty comes to the Queen’s Hall\, Dunoon for a great night of comedy!\n\n\nJack Docherty is Chief Commissioner Cameron Miekelson – your Chief\, our Chief\, The People’s Chief!\n \nAs seen on BBC Scotland’s Scot Squad and The Chief\, this national hero will be bringing his wit and wisdom (and let’s be honest\, his still simmering good-looks) to a theatre near you. \nYou may have seen The Chief’s ‘Apology sketch’ – a viral sensation\, racking up more than 80 million views – well now’s your chance to see The Chief live in his critically acclaimed\, sell-out show\, No Apologies. \nThe show will feature your favourite sketches from Scot Squad and lots of hilarious new jokes as The Chief dissects the state of the nation\, from politics to policing\, football to families\, bams to biscuits. \nThe Chief will also read excerpts from his forthcoming best-selling memoir\, No Apologies\, a book that tells his unique personal story of how a white\, middle-class\, public school educated boy from Edinburgh somehow overcame all the odds to become the Chief Commissioner of The Scottish Police Force. \nThis is sure to be the theatrical event of this\, or any other\, year. Don’t miss out! \n \n(Please note – band and radges will be denied entry)\n \n“Sharp Satire…Refreshingly Ridiculous…Hail to the Chief” ★★★★\, The Herald \n‘It’s simply impossible not to love what he does on stage’ (Scotsman).‘Masterful\, superlative’ (Chortle.co.uk).‘A hugely talented comic performer’ (Sunday Times). \n‘Docherty’s mighty presence fills the room’ (ThreeWeeks). \n‘A maverick genius’ (Herald).
URL:https://liveargyll.co.uk/event/jack-docherty-in-the-chief-no-apologies-3/
CATEGORIES:Performing & Visual Arts
ATTACH;FMTTYPE=image/jpeg:https://liveargyll.co.uk/wp-content/uploads/2025/10/https3A2F2Fcdn.evbuc_.com2Fimages2F11528433032F11084224510032F12Foriginal.20251014-135819autoformat2Ccompressq75sharp10s098b51bd1591936f44e9edbb913d6ad5.jpg
END:VEVENT
END:VCALENDAR