BEGIN:VCALENDAR
VERSION:2.0
PRODID:-//Live Argyll - ECPv6.10.1.1//NONSGML v1.0//EN
CALSCALE:GREGORIAN
METHOD:PUBLISH
X-WR-CALNAME:Live Argyll
X-ORIGINAL-URL:https://liveargyll.co.uk
X-WR-CALDESC:Events for Live Argyll
REFRESH-INTERVAL;VALUE=DURATION:PT1H
X-Robots-Tag:noindex
X-PUBLISHED-TTL:PT1H
BEGIN:VTIMEZONE
TZID:Europe/London
BEGIN:DAYLIGHT
TZOFFSETFROM:+0000
TZOFFSETTO:+0100
TZNAME:BST
DTSTART:20260329T010000
END:DAYLIGHT
BEGIN:STANDARD
TZOFFSETFROM:+0100
TZOFFSETTO:+0000
TZNAME:GMT
DTSTART:20261025T010000
END:STANDARD
END:VTIMEZONE
BEGIN:VEVENT
DTSTART;TZID=Europe/London:20260510T150000
DTEND;TZID=Europe/London:20260510T163000
DTSTAMP:20260419T131841
CREATED:20260128T072746Z
LAST-MODIFIED:20260418T141742Z
UID:76544-1778425200-1778430600@liveargyll.co.uk
SUMMARY:Taylor Swift Tribute
DESCRIPTION:Scotland’s top Taylor Swift tribute .\n\n\nScotlands top Taylor Swift tribute featuring Jamie A self confessed ‘Swiftie’ with her amazing dancers \nThis show features all of Taylor’s much loved hits including ; Shake It Off\, \nBlank Space\, Love Story\,You Belong To Me \, Look What You Made Me Do\, I Knew You Were Trouble and many\, many more with ots of interaction suitable for all ages. Under 14’s must be accompanied by an adult over 18. \nDoors open 2.30pm for a 3.00pm showtime.
URL:https://liveargyll.co.uk/event/taylor-swift-tribute/
CATEGORIES:Music
ATTACH;FMTTYPE=image/jpeg:https://liveargyll.co.uk/wp-content/uploads/2026/01/https3A2F2Fcdn.evbuc_.com2Fimages2F9244435132F3259909471112F12Foriginal.20241229-131121autoformat2Ccompressq75sharp10s332a0914f30b774e201a2e24958c7c90-scaled.jpg
END:VEVENT
END:VCALENDAR